BEGIN:VCALENDAR
VERSION:2.0
PRODID:-//Stichting Barendrecht Klassiek - ECPv6.5.1.5//NONSGML v1.0//EN
CALSCALE:GREGORIAN
METHOD:PUBLISH
X-WR-CALNAME:Stichting Barendrecht Klassiek
X-ORIGINAL-URL:https://barendrechtklassiek.nl
X-WR-CALDESC:Evenementen voor Stichting Barendrecht Klassiek
REFRESH-INTERVAL;VALUE=DURATION:PT1H
X-Robots-Tag:noindex
X-PUBLISHED-TTL:PT1H
BEGIN:VTIMEZONE
TZID:UTC
BEGIN:STANDARD
TZOFFSETFROM:+0000
TZOFFSETTO:+0000
TZNAME:UTC
DTSTART:20200101T000000
END:STANDARD
END:VTIMEZONE
BEGIN:VEVENT
DTSTART;VALUE=DATE:20200920
DTEND;VALUE=DATE:20200921
DTSTAMP:20260422T225043
CREATED:20240721T065945Z
LAST-MODIFIED:20240721T070352Z
UID:1398-1600560000-1600646399@barendrechtklassiek.nl
SUMMARY:20-09-20 | A la Douzaine
DESCRIPTION:Michel van Bruggen (blokfluit)\, Norbert Bartelsman (organist) en Maaike Boekholt (viola di gamba) vormen het trio A la Douzaine. Zij speelden voor ons een mooi concert met muziek van Buxtehude\, J.S. Bach en C.Ph.E Bach.
URL:https://barendrechtklassiek.nl/event/20-09-20-a-la-douzaine/
CATEGORIES:Terugblik
ATTACH;FMTTYPE=image/png:https://barendrechtklassiek.nl/wp-content/uploads/2024/07/a-la-douzaine-e1721545414554.png
END:VEVENT
END:VCALENDAR